BEGIN:VCALENDAR
VERSION:2.0
PRODID:-//OmniMagnetCalendar//EN
BEGIN:VEVENT
DTSTAMP:20190625T195740Z
STATUS:CONFIRMED
UID:officerslounge.clubs.harvard.edu640
DTSTART:20251122T050000Z
DTEND:20251123T040000Z
LOCATION:Various cities worldwide,
SUMMARY:Harvard - Yale Football: The Game, Saturday November 23
DESCRIPTION:Get ready for 141st annual Harvard-Yale Game and cheer on the Crimson with fellow alumni and fans at your local pub or restaurant!
BEGIN:VALARM
TRIGGER:-PT15M
ACTION:DISPLAY
END:VALARM
TRANSP:OPAQUE
END:VEVENT
END:VCALENDAR
