BEGIN:VCALENDAR
VERSION:2.0
PRODID:-//OmniMagnetCalendar//EN
BEGIN:VEVENT
DTSTAMP:20190625T195740Z
STATUS:CONFIRMED
UID:officerslounge.clubs.harvard.edu774
DTSTART:20251022T130000Z
DTEND:20251023T190000Z
LOCATION:
SUMMARY:2025 Alumni Leadership Conference
DESCRIPTION:The conference brought together Harvard Alumni Association (HAA) Club and Shared Interest Group (SIG) leaders and Contacts from around the world to share wisdom, gain insight, and connect with one another and to resources on campus.
BEGIN:VALARM
TRIGGER:-PT15M
ACTION:DISPLAY
END:VALARM
TRANSP:OPAQUE
END:VEVENT
END:VCALENDAR
