BEGIN:VCALENDAR
VERSION:2.0
PRODID:-//OmniMagnetCalendar//EN
BEGIN:VEVENT
DTSTAMP:20190625T195740Z
STATUS:CONFIRMED
UID:officerslounge.clubs.harvard.edu775
DTSTART:20260127T000000Z
DTEND:20260127T010000Z
LOCATION:
SUMMARY:Speakers Bureau Spotlight: David J. Malan - Open to all Clubs, SIGs and Contacts
DESCRIPTION:Join us for a Speakers Bureau Spotlight "Embracing AI in CS50 at Harvard, Oxford, and Beyond with David J. Malan." All Clubs, SIGs, and Contacts are eligible to co-sponsor and share with their communities! Co-sponsorship deadline is Monday, January 12
BEGIN:VALARM
TRIGGER:-PT15M
ACTION:DISPLAY
END:VALARM
TRANSP:OPAQUE
END:VEVENT
END:VCALENDAR
